BEGIN:VCALENDAR
VERSION:2.0
PRODID:-//ChamberMaster//Event Calendar 2.0//EN
METHOD:PUBLISH
X-PUBLISHED-TTL:P3D
REFRESH-INTERVAL:P3D
CALSCALE:GREGORIAN
BEGIN:VEVENT
DTSTART:20240411T121500Z
DTEND:20240411T140000Z
X-MICROSOFT-CDO-ALLDAYEVENT:FALSE
SUMMARY:y2024 Summit
DESCRIPTION:Summit was originally designed in response to a challenge from the Canadian and Ontario Chambers of Commerce\, recognizing that Canada's continued growth and prosperity depends on our capacity to innovate and translate new ideas into real economic gains. Featuring local speakers sharing their stories of "scaling up"\, Summit continues to motivate and inspire the London business community to reach new heights in their own business growth strategies.\n\n \nSpeakers\n\n\n	Allison Salverda\, eSupply Canada\n	Asha Parekh\, Front Line Medical Technologies\n	Pam Bains\, Microcad Computer Corporation\n\n\nHost: Melissa Maloney - All Women L.E.A.D.\n\nPanel Moderator: Jennifer Slay - All Women L.E.A.D.\n\n\n\nSponsorship\nThe London Chamber of Commerce has a broad array of sponsorship opportunities to suit your business style. Give us a call today to explore how you can support and celebrate our 7th successful Summit!  Contact Elise Nagel\, Director of Business Development. 519-432-7551 ext: 35
X-ALT-DESC;FMTTYPE=text/html:<span style="font-size:16px\;"><span style="font-family:arial\;">Summit was originally designed in response to a challenge from the Canadian and Ontario Chambers of Commerce\, recognizing that Canada&#39\;s continued growth and prosperity&nbsp\;depends on our capacity to innovate and translate new ideas into real economic gains. Featuring local speakers sharing their stories of &quot\;scaling up&quot\;\, Summit continues to motivate and inspire the London business community to reach new heights in their own business growth strategies.</span></span><br />\n&nbsp\;\n<p dir="ltr" style="line-height:1.38\;margin-top:0pt\;margin-bottom:0pt\;"><strong><span id="docs-internal-guid-2e40e551-7fff-d980-c84c-8674cf11ce03"><span style="font-size: 12pt\; font-family: Roboto\, sans-serif\; color: rgb(0\, 0\, 0)\; background-color: transparent\; font-variant-numeric: normal\; font-variant-east-asian: normal\; font-variant-alternates: normal\; vertical-align: baseline\; white-space: pre-wrap\;">Speakers</span></span></strong></p>\n\n<ul dir="ltr">\n	<li style="line-height: 1.38\; margin-top: 0pt\; margin-bottom: 0pt\;"><span style="font-size:16px\;">Allison Salverda\, eSupply Canada</span></li>\n	<li style="line-height: 1.38\; margin-top: 0pt\; margin-bottom: 0pt\;"><span style="font-size:16px\;">Asha Parekh\, Front Line Medical Technologies</span></li>\n	<li style="line-height: 1.38\; margin-top: 0pt\; margin-bottom: 0pt\;"><span style="font-size:16px\;">Pam Bains\, Microcad Computer Corporation</span></li>\n</ul>\n\n<p dir="ltr" style="line-height:1.38\;margin-top:0pt\;margin-bottom:0pt\;"><strong><span><span style="font-size: 12pt\; font-family: Roboto\, sans-serif\; color: rgb(0\, 0\, 0)\; background-color: transparent\; font-variant-numeric: normal\; font-variant-east-asian: normal\; font-variant-alternates: normal\; vertical-align: baseline\; white-space: pre-wrap\;">Host: </span></span></strong><span><span style="font-size: 12pt\; font-family: Roboto\, sans-serif\; color: rgb(0\, 0\, 0)\; background-color: transparent\; font-variant-numeric: normal\; font-variant-east-asian: normal\; font-variant-alternates: normal\; vertical-align: baseline\; white-space: pre-wrap\;"><span id="docs-internal-guid-2e40e551-7fff-d980-c84c-8674cf11ce03"><span style="font-size: 12pt\; background-color: transparent\; font-variant-numeric: normal\; font-variant-east-asian: normal\; font-variant-alternates: normal\; vertical-align: baseline\; white-space: pre-wrap\;">Melissa Maloney - All Women L.E.A.D.</span></span></span></span></p>\n\n<p dir="ltr" style="line-height:1.38\;margin-top:0pt\;margin-bottom:0pt\;"><strong><span id="docs-internal-guid-2e40e551-7fff-d980-c84c-8674cf11ce03"><span style="font-size: 12pt\; font-family: Roboto\, sans-serif\; color: rgb(0\, 0\, 0)\; font-variant-numeric: normal\; font-variant-east-asian: normal\; font-variant-alternates: normal\; vertical-align: baseline\; white-space: pre-wrap\;">Panel Moderator: </span></span></strong><span><span style="font-size: 12pt\; font-family: Roboto\, sans-serif\; color: rgb(0\, 0\, 0)\; font-variant-numeric: normal\; font-variant-east-asian: normal\; font-variant-alternates: normal\; vertical-align: baseline\; white-space: pre-wrap\;"><span><span style="font-size: 12pt\; font-family: Roboto\, sans-serif\; color: rgb(0\, 0\, 0)\; font-variant-numeric: normal\; font-variant-east-asian: normal\; font-variant-alternates: normal\; vertical-align: baseline\; white-space: pre-wrap\;">Jennifer Slay - </span><span style="font-size: 12pt\; font-family: Roboto\, sans-serif\; color: rgb(0\, 0\, 0)\; background-color: transparent\; font-variant-numeric: normal\; font-variant-east-asian: normal\; font-variant-alternates: normal\; vertical-align: baseline\; white-space: pre-wrap\;">All Women L.E.A.D.</span></span></span></span></p>\n\n<p dir="ltr" style="line-height:1.38\;margin-top:0pt\;margin-bottom:0pt\;"><br />\n<strong style="font-size: 16px\;">Sponsorship</strong></p>\n<span style="font-size:16px\;">The London Chamber of Commerce has a broad array of sponsorship&nbsp\;opportunities to suit your business style. Give us a call today to explore how you can support and celebrate our 7th successful Summit!&nbsp\; Contact <a href="mailto:elise@londonchamber.com">Elise Nagel</a>\, Director of Business Development.&nbsp\;519-432-7551 ext: 35</span>
LOCATION:Wolf Performance Hall 251 Dundas Street\, London\, ON N6A 6H9
UID:e.2487.1543
SEQUENCE:3
DTSTAMP:20260422T023136Z
URL:https://business.londonchamber.com/events/details/y2024-summit-1543
END:VEVENT

END:VCALENDAR
