BEGIN:VCALENDAR
VERSION:2.0
PRODID:-//ChamberMaster//Event Calendar 2.0//EN
METHOD:PUBLISH
X-PUBLISHED-TTL:P3D
REFRESH-INTERVAL:P3D
CALSCALE:GREGORIAN
BEGIN:VEVENT
DTSTART;VALUE=DATE:20240617
DTEND;VALUE=DATE:20240618
TRANSP:TRANSPARENT
X-MICROSOFT-CDO-ALLDAYEVENT:TRUE
SUMMARY:y2024 Past Chairs' Golf Classic
DESCRIPTION:Sponsorship Opportunities\n\nExplore a wide range of sponsorship opportunities for the Past Chairs' Golf Classic\, each offering unique exposure and benefits. \n\nIt's not too late to secure a sponsorship! These opportunities are still available: \n\n\n	Gold Sponsor - Tee Block Sponsor\n	Bronze Sponsor - Cocktail Reception Sponsor\n	Specialty Hole Sponsors\n	Regular Hole Sponsors\n\n\nTo secure your sponsorship or for further inquiries\, please contact Elise Nagel.\n\n View available Sponsorship Opportunities\n\nSilent Auction\n\nAs a not-for-profit organization\, the London Chamber of Commerce relies upon the funds raised through this tournament to allow it to do advocacy work on behalf of all stakeholders in London.\n\n \n\nPlease consider supporting the event by donating gift certificates\, season passes\, merchandise\, lessons\, or services. In exchange\, you will receive excellent community exposure and advertising by having your company name in front of many business leaders from our community.\n\n \n\nSilent Auction Contributor's Form\n\n\n\nGolf\n\nOnly a few spots remain for our Past Chairs' Golf Classic on June 17th at Sunningdale Golf & Country Club\, proudly presented by Libro Credit Union.\n \n\nWhether you're a seasoned golf pro or just picking up the clubs for the first time\, our tournament promises a day of competition\, networking\, and fun while forging new connections within the vibrant London business community.\n \n\nThis year\, we're thrilled to return to the stunning grounds of the Sunningdale Golf & Country Club\, unveiling their brand-new course! Experience our revamped event format\, starting the day with a delightful brunch before teeing off with a shotgun start. Indulge in our food stations serving up delectable fare mid-late afternoon.\n  \n\nIt's more than just a tournament\; it's a tradition we're proud to continue.
X-ALT-DESC;FMTTYPE=text/html:<div class="cms-content cms-widget published " helvetica="" id="content-22004" style="box-sizing: border-box\; font-family: Arial\, ">\n<div class="mn-content" id="mn-content" style="box-sizing: border-box\;">\n<div class="mn-module-content" id="mn-events" style="box-sizing: border-box\;">\n<div id="mn-events-details" itemscope="itemscope" itemtype="http://schema.org/Event" style="box-sizing: border-box\;">\n<div class="mn-section mn-event-detail-listing" style="box-sizing: border-box\;">\n<div class="mn-event-info mn-listing-infobasic" style="box-sizing: border-box\;">\n<div class="mn-event-section mn-event-desc" style="box-sizing: border-box\;">\n<div class="mn-event-content" style="box-sizing: border-box\;">\n<div class="mn-raw mn-print-url" itemprop="description" style="box-sizing: border-box\;">\n<p background-color:="" dir="ltr" font-size:="" line-height:="" margin-bottom:="" margin-top:="" trebuchet=""><u><span style="font-size: 16px\;"><span style="font-family: arial\;"><span id="docs-internal-guid-34d50511-7fff-3a61-3293-b13febd365f5"><span style="color: rgb(13\, 13\, 13)\; font-weight: 700\; font-variant-numeric: normal\; font-variant-east-asian: normal\; font-variant-alternates: normal\; font-variant-position: normal\; vertical-align: baseline\; white-space-collapse: preserve\;">Sponsorship Opportunities</span></span></span></span></u></p>\n\n<p background-color:="" dir="ltr" font-size:="" line-height:="" margin-bottom:="" margin-top:="" trebuchet=""><span style="font-size: 16px\;"><span style="font-family: arial\;"><span><span style="color: rgb(13\, 13\, 13)\; font-variant-numeric: normal\; font-variant-east-asian: normal\; font-variant-alternates: normal\; font-variant-position: normal\; vertical-align: baseline\; white-space-collapse: preserve\;">Explore a wide range of sponsorship opportunities for the Past Chairs&#39\; Golf Classic\, each offering unique exposure and benefits. </span></span></span></span></p>\n\n<p background-color:="" dir="ltr" font-size:="" line-height:="" margin-bottom:="" margin-top:="" trebuchet=""><span style="font-size:16px\;"><span style="font-family:arial\;">It&#39\;s not too late to secure a sponsorship! These opportunities&nbsp\;are still available:&nbsp\;</span></span></p>\n\n<ul>\n	<li style="line-height: 19.6px\;"><span style="font-size:16px\;"><span style="font-family:arial\;">Gold Sponsor - Tee Block Sponsor</span></span></li>\n	<li style="line-height: 19.6px\;"><span style="font-size:16px\;"><span style="font-family:arial\;">Bronze Sponsor - Cocktail Reception Sponsor</span></span></li>\n	<li style="line-height: 19.6px\;"><span style="font-size:16px\;"><span style="font-family:arial\;">Specialty Hole Sponsors</span></span></li>\n	<li style="line-height: 19.6px\;"><span style="font-size:16px\;"><span style="font-family:arial\;">Regular Hole Sponsors</span></span></li>\n</ul>\n\n<p background-color:="" dir="ltr" font-size:="" line-height:="" margin-bottom:="" margin-top:="" trebuchet=""><span style="font-size: 16px\;"><span style="font-family: arial\;"><span id="docs-internal-guid-34d50511-7fff-3a61-3293-b13febd365f5"><span style="color: rgb(13\, 13\, 13)\; font-variant-numeric: normal\; font-variant-east-asian: normal\; font-variant-alternates: normal\; font-variant-position: normal\; vertical-align: baseline\; white-space-collapse: preserve\;">To secure your sponsorship or for further inquiries\, please contact <strong><a href="mailto:elise@londonchamber.com">Elise Nagel</a>.</strong></span></span></span></span></p>\n\n<p background-color:="" dir="ltr" font-size:="" line-height:="" margin-bottom:="" margin-top:="" trebuchet="">&#8203\;<a href="https://chambermaster.blob.core.windows.net/userfiles/UserFiles/chambers/2487/File/LCoCSponsorship_Golf2024.pdf"><span style="font-size: 16px\;"><strong><span style="color: rgb(0\, 0\, 255)\;"><span style="font-family: arial\;">View available Sponsorship Opportunities</span></span></strong></span></a></p>\n\n<p dir="ltr" style="line-height: 1.38\; margin-top: 0pt\; margin-bottom: 0pt\;"><u><strong style="font-family: arial\; font-size: 16px\;"><span id="docs-internal-guid-8d8d546b-7fff-c59f-e0ac-24d6cfe8e40a"><span style="color: rgb(13\, 13\, 13)\; font-variant-numeric: normal\; font-variant-east-asian: normal\; font-variant-alternates: normal\; font-variant-position: normal\; vertical-align: baseline\; white-space-collapse: preserve\;">Silent Auction</span></span></strong></u></p>\n\n<p dir="ltr" style="line-height: 1.38\; margin-top: 0pt\; margin-bottom: 0pt\;"><span style="font-size: 16px\;"><span style="font-family: arial\;"><span style="color: rgb(13\, 13\, 13)\; font-variant-numeric: normal\; font-variant-east-asian: normal\; font-variant-alternates: normal\; font-variant-position: normal\; vertical-align: baseline\; white-space-collapse: preserve\;">As a not-for-profit organization\, the London Chamber of Commerce relies upon </span><span id="docs-internal-guid-8d8d546b-7fff-c59f-e0ac-24d6cfe8e40a"><span style="color: rgb(13\, 13\, 13)\; font-variant-numeric: normal\; font-variant-east-asian: normal\; font-variant-alternates: normal\; font-variant-position: normal\; vertical-align: baseline\; white-space-collapse: preserve\;">the funds raised through this tournament to allow it to do advocacy work on behalf of all stakeholders in London.</span></span></span></span><br />\n&nbsp\;</p>\n\n<p dir="ltr" style="line-height: 1.38\; margin-top: 0pt\; margin-bottom: 0pt\;"><span style="font-size: 16px\;"><span style="font-family: arial\;"><span id="docs-internal-guid-8d8d546b-7fff-c59f-e0ac-24d6cfe8e40a"><span style="color: rgb(13\, 13\, 13)\; font-variant-numeric: normal\; font-variant-east-asian: normal\; font-variant-alternates: normal\; font-variant-position: normal\; vertical-align: baseline\; white-space-collapse: preserve\;">Please consider supporting the event by donating gift certificates\, season passes\, merchandise\, lessons\, or services. In exchange\, you will receive excellent community exposure and advertising by having your company name in front of many business leaders from our community.</span></span></span></span></p>\n\n<p dir="ltr" style="line-height: 1.38\; margin-top: 0pt\; margin-bottom: 0pt\;">&nbsp\;</p>\n\n<p dir="ltr" style="line-height: 1.38\; margin-top: 0pt\; margin-bottom: 0pt\;"><span style="font-size: 16px\;"><a href="https://chambermaster.blob.core.windows.net/userfiles/UserFiles/chambers/2487/File/2024GolfAuctionRequestFillable1.pdf"><span style="color: rgb(0\, 0\, 255)\;"><strong><span style="font-family: arial\;"><span style="font-variant-numeric: normal\; font-variant-east-asian: normal\; font-variant-alternates: normal\; font-variant-position: normal\; vertical-align: baseline\; white-space-collapse: preserve\;">Silent Auction Contributor&#39\;s Form</span></span></strong></span></a></span></p>\n\n<p dir="ltr" style="line-height:1.38\;margin-top:0pt\;margin-bottom:0pt\;"><br />\n<u><span style="color: rgb(13\, 13\, 13)\; font-family: arial\; font-size: 16px\; font-weight: 700\; white-space-collapse: preserve\;">Golf</span></u></p>\n\n<p dir="ltr" style="line-height:1.38\;margin-top:0pt\;margin-bottom:0pt\;"><span style="font-size:16px\;"><span style="font-family:arial\;"><strong>Only a few spots remain for our Past Chairs&#39\; Golf Classic on June 17th at Sunningdale Golf &amp\; Country Club\,<span style="color: rgb(13\, 13\, 13)\; font-variant-numeric: normal\; font-variant-east-asian: normal\; font-variant-alternates: normal\; font-variant-position: normal\; vertical-align: baseline\; white-space-collapse: preserve\;"> proudly presented by Libro Credit Union.</span></strong></span></span></p>\n&nbsp\;\n\n<p dir="ltr" style="line-height:1.38\;margin-top:0pt\;margin-bottom:0pt\;"><span style="font-size:16px\;"><span style="font-family:arial\;"><span id="docs-internal-guid-77a1f900-7fff-bf8f-5104-ab5a9da5e103"><span style="color: rgb(13\, 13\, 13)\; font-variant-numeric: normal\; font-variant-east-asian: normal\; font-variant-alternates: normal\; font-variant-position: normal\; vertical-align: baseline\; white-space-collapse: preserve\;">Whether you&#39\;re a seasoned golf pro or just picking up the clubs for the first time\, our tournament promises a day of competition\, networking\, and fun while forging new connections within the vibrant London business community.</span></span></span></span></p>\n<span style="font-size:16px\;"><span style="font-family:arial\;">&nbsp\;</span></span>\n\n<p dir="ltr" style="line-height:1.38\;margin-top:0pt\;margin-bottom:0pt\;"><span style="font-size:16px\;"><span style="font-family:arial\;"><span id="docs-internal-guid-77a1f900-7fff-bf8f-5104-ab5a9da5e103"><span style="color: rgb(13\, 13\, 13)\; font-variant-numeric: normal\; font-variant-east-asian: normal\; font-variant-alternates: normal\; font-variant-position: normal\; vertical-align: baseline\; white-space-collapse: preserve\;">This year\, we&#39\;re thrilled to return to the stunning grounds of the Sunningdale Golf &amp\; Country Club\, unveiling their brand-new course! Experience our revamped event format\, starting the day with a delightful brunch before teeing off with a shotgun start. Indulge in our food stations serving up delectable fare mid-late afternoon.</span></span></span></span></p>\n<span style="font-size:16px\;"><span style="font-family:arial\;"> &nbsp\;</span></span>\n\n<p dir="ltr" style="line-height:1.38\;margin-top:0pt\;margin-bottom:0pt\;"><span style="font-size:16px\;"><span style="font-family:arial\;"><span id="docs-internal-guid-77a1f900-7fff-bf8f-5104-ab5a9da5e103"><span style="color: rgb(13\, 13\, 13)\; font-variant-numeric: normal\; font-variant-east-asian: normal\; font-variant-alternates: normal\; font-variant-position: normal\; vertical-align: baseline\; white-space-collapse: preserve\;">It&#39\;s more than just a tournament\; it&#39\;s a tradition we&#39\;re proud to continue. </span></span></span></span></p>\n\n<div>\n<p dir="ltr" style="line-height:1.38\;margin-top:0pt\;margin-bottom:0pt\;">&nbsp\;</p>\n\n<p dir="ltr" style="line-height:1.38\;margin-top:0pt\;margin-bottom:0pt\;">&nbsp\;</p>\n</div>\n</div>\n</div>\n</div>\n</div>\n</div>\n</div>\n</div>\n</div>\n</div>\n
LOCATION:Sunningdale Golf & Country Club 465 Sunningdale Rd West London\, ON N6G 5B9
UID:e.2487.1542
SEQUENCE:3
DTSTAMP:20260421T082509Z
URL:https://business.londonchamber.com/events/details/y2024-past-chairs-golf-classic-1542
END:VEVENT

END:VCALENDAR
