BEGIN:VCALENDAR
VERSION:2.0
PRODID:-//ChamberMaster//Event Calendar 2.0//EN
METHOD:PUBLISH
X-PUBLISHED-TTL:P3D
REFRESH-INTERVAL:P3D
CALSCALE:GREGORIAN
BEGIN:VEVENT
DTSTART:20241009T200000Z
DTEND:20241009T220000Z
X-MICROSOFT-CDO-ALLDAYEVENT:FALSE
SUMMARY:y2024 Economic Insights: Reception with Pierre Cléroux - Networking and Keynote Address by BDC's Chief Economist
DESCRIPTION:Unlock the Future of Business with AI!\n\n \n\nJoin London Chamber of Commerce for an exclusive event featuring keynote speaker\, Pierre Cl roux\, Chief Economist and Vice President\, Research at BDC   Canada's bank for entrepreneurs. Find out what's in store for the Canadian economy and discover more about the major trends that will impact your business. Pierre will also unveil the compelling findings from BDC's latest artificial intelligence study\, featuring a comprehensive literature review and a survey of over 1\,200 Canadian business owners.\n\n \n\nDon't miss this opportunity to gain a competitive edge\, network with like-minded entrepreneurs and dive into the world of AI.  \n\n\n\nPierre Cl roux Bio\n\nPierre Cl roux was appointed Vice President\, Research and Chief Economist at BDC in 2012.\n\n\n\nPierre leads a team of experts who analyze economic data to identify business and sector trends impacting Canadian entrepreneurs. A seasoned speaker\, he helps business owners understand the risks and opportunities presented by the economic environment.\n\n\n\nMr. Cl roux is also responsible for providing economic analysis and advice to the Bank's senior management team and supervises all marketing and industry research activities. Over his 25-year career as an economist\, he has held several influential positions that had a direct impact on entrepreneurs in Canada and abroad.\n\n\n\nPhotography and Video Disclaimer: The London Chamber of Commerce reserves the right to photograph\, record\, and live stream this event.  These photos and videos may be used in publications\, posters and/or graphics. By registering for this event\, you understand and acknowledge that your photograph and videos with you in them may be taken and used\, per the discretion of the London Chamber of Commerce.
X-ALT-DESC;FMTTYPE=text/html:<div><span style="font-size:16px\;"><strong>Unlock the Future of Business with AI!</strong></span></div>\n\n<div>&nbsp\;</div>\n\n<div><span style="font-size:16px\;">Join London Chamber of Commerce for an exclusive event featuring keynote speaker\, Pierre Cl&eacute\;roux\, Chief Economist and Vice President\, Research at BDC &mdash\; Canada&rsquo\;s bank for entrepreneurs. Find out what&rsquo\;s in store for the Canadian economy and discover more about the major trends that will impact your business. Pierre will also unveil the compelling findings from BDC&rsquo\;s latest artificial intelligence study\, featuring a comprehensive literature review and a survey of over 1\,200 Canadian business owners.</span></div>\n\n<div>&nbsp\;</div>\n\n<div><span style="font-size:16px\;">Don&rsquo\;t miss this opportunity to gain a competitive edge\, network with like-minded entrepreneurs and dive into the world of AI.&nbsp\;&nbsp\;</span></div>\n\n<div><br />\n<span style="font-size: 16px\;"><strong>Pierre Cl&eacute\;roux Bio</strong><br />\nPierre Cl&eacute\;roux&nbsp\;</span><span style="font-family:arial\;"><span style="font-size:16px\;"><span><span style="color: rgb(34\, 34\, 34)\; background-color: transparent\; font-variant-numeric: normal\; font-variant-east-asian: normal\; font-variant-alternates: normal\; font-variant-position: normal\; vertical-align: baseline\; white-space-collapse: preserve\;">was appointed Vice President\, Research and Chief Economist at BDC in 2012.</span></span></span></span></div>\n\n<p dir="ltr" style="line-height: 1.38\; margin-top: 0pt\; margin-bottom: 0pt\;"><br />\n<span style="font-family:arial\;"><span style="font-size:16px\;"><span id="docs-internal-guid-37be815d-7fff-dca3-34f2-b2af214c450c"><span style="color: rgb(34\, 34\, 34)\; background-color: transparent\; font-variant-numeric: normal\; font-variant-east-asian: normal\; font-variant-alternates: normal\; font-variant-position: normal\; vertical-align: baseline\; white-space-collapse: preserve\;">Pierre leads a team of experts who analyze economic data to identify business and sector trends impacting Canadian entrepreneurs. A seasoned speaker\, he helps business owners understand the risks and opportunities presented by the economic environment.</span></span></span></span></p>\n\n<p dir="ltr" style="line-height: 1.38\; margin-top: 0pt\; margin-bottom: 0pt\;"><br />\n<span style="font-family:arial\;"><span style="font-size:16px\;"><span id="docs-internal-guid-37be815d-7fff-dca3-34f2-b2af214c450c"><span style="color: rgb(34\, 34\, 34)\; background-color: transparent\; font-variant-numeric: normal\; font-variant-east-asian: normal\; font-variant-alternates: normal\; font-variant-position: normal\; vertical-align: baseline\; white-space-collapse: preserve\;">Mr. Cl&eacute\;roux is also responsible for providing economic analysis and advice to the Bank&rsquo\;s senior management team and supervises all marketing and industry research activities. Over his 25-year career as an economist\, he has held several influential positions that had a direct impact on entrepreneurs in Canada and abroad.</span></span></span></span></p>\n\n<div><br />\n<span style="color: rgb(34\, 34\, 34)\; box-sizing: border-box\; font-size: 14px\; font-family: Lato\, Helvetica\, sans-serif\; font-weight: bolder\; outline: 0px\; background-color: rgb(243\, 243\, 243)\;">Photography and Video Disclaimer:&nbsp\;</span><span style="color: rgb(34\, 34\, 34)\; box-sizing: border-box\; font-size: 14px\; font-family: Lato\, Helvetica\, sans-serif\; background-color: rgb(243\, 243\, 243)\;">The London Chamber of Commerce reserves the right to photograph\, record\, and live stream this event.&nbsp\; These photos and videos may be used in publications\, posters and/or graphics. By registering for this event\, you understand and acknowledge that your photograph and videos with you in them may be taken and used\, per the discretion of the London Chamber of Commerce.</span></div>\n
LOCATION:DoubleTree By Hilton Hotel London 300 King Street London\, ON N6B 1S2
UID:e.2487.1563
SEQUENCE:3
DTSTAMP:20260420T082440Z
URL:https://business.londonchamber.com/events/details/y2024-economic-insights-reception-with-pierre-cl&#233;roux-networking-and-keynote-address-by-bdc-s-chief-economist-1563
END:VEVENT

END:VCALENDAR
