BEGIN:VCALENDAR
VERSION:2.0
PRODID:-//ChamberMaster//Event Calendar 2.0//EN
METHOD:PUBLISH
X-PUBLISHED-TTL:P3D
REFRESH-INTERVAL:P3D
CALSCALE:GREGORIAN
BEGIN:VEVENT
DTSTART:20240116T233000Z
DTEND:20240117T003000Z
X-MICROSOFT-CDO-ALLDAYEVENT:FALSE
SUMMARY:y2024 Discover Portugal Webinar
DESCRIPTION:This webinar will provide you with more information about the trip\, and you will have an opportunity to have any questions answered. This is a free event for members and non-members. For more information about the trip\, visit www.londonchamber.com/travel
X-ALT-DESC;FMTTYPE=text/html:This webinar will provide you with more information about the trip\, and you will have an opportunity to have any questions answered. This is a free event for members and non-members.&nbsp\;For more information about the trip\, visit <a href="http://www.londonchamber.com/travel">www.londonchamber.com/travel</a>
LOCATION:A link to the webinar will be sent after you register for the event.
UID:e.2487.1538
SEQUENCE:3
DTSTAMP:20260422T055630Z
URL:https://business.londonchamber.com/events/details/y2024-discover-portugal-webinar-1538
END:VEVENT

END:VCALENDAR
