BEGIN:VCALENDAR
VERSION:2.0
PRODID:-//ChamberMaster//Event Calendar 2.0//EN
METHOD:PUBLISH
X-PUBLISHED-TTL:P3D
REFRESH-INTERVAL:P3D
CALSCALE:GREGORIAN
BEGIN:VEVENT
DTSTART:20240620T210000Z
DTEND:20240620T230000Z
X-MICROSOFT-CDO-ALLDAYEVENT:FALSE
SUMMARY:y2024 Business After Five - June
DESCRIPTION:Join us at June's Business After 5 event at Covent Garden Market where we'll celebrate National Indigenous History Month. \n\n\n\nCatering by: Candice Elijah\, Candice's Catering\n\nMusic by: DJ Deon Carter \n\n\n\nOur Host\n\nEstablished in 1845\, the Covent Garden Market is open 7 days a week located right in Downtown London! Offering an abundance of food\, services\, a weekly local farmers' market and an array of cultural festivals and events!\n\n\n\nParking\n\nYou can access the underground parking garage from King Street which is a one-way street. We suggest parking as close to the King Street stairwell on P1 or P2 as possible as that is the best access point to get to the second floor Mezzanine. When you pull into the parking garage\, please press the button to get a ticket. You will also be given a free pass to exit the parking garage.\n\n\n\n\nBecome an Exhibitor\nChamber members have an opportunity to be exhibitors at Business After 5. Interested in participating? Don't wait! Reach out to Elise Nagel and book your table today. \n\n\n\nPhotography and Video Disclaimer: The London Chamber of Commerce reserves the right to photograph\, record and live stream this event.  These photos and videos may be used in publications\, posters and/or graphics. By registering for this event\, you understand and acknowledge that your photograph and videos with you in them may be taken and used\, per the discretion of the London Chamber of Commerce.
X-ALT-DESC;FMTTYPE=text/html:<p><span style="font-size:16px\;">Join us at June&#39\;s Business After 5 event at Covent Garden Market&nbsp\;where we&#39\;ll celebrate National Indigenous History Month.&nbsp\;<br />\n<br />\n<strong>Catering by: </strong>Candice Elijah\, Candice&#39\;s Catering<br />\n<strong>Music by:</strong> DJ Deon Carter&nbsp\;</span><br />\n<br />\n<span style="font-size:16px\;"><span century="" style="color: rgb(0\, 0\, 0)\; font-family: "><span style="font-family:arial\;"><strong>Our Host</strong><br />\nEstablished in 1845\, the Covent Garden Market is open 7 days a week located right in Downtown London! Offering an abundance of food\, services\, a weekly local farmers&rsquo\; market and an array of cultural festivals and events!</span></span></span><br />\n<br />\n<strong style="font-size: 16px\;">Parking</strong><br style="font-size: 16px\;" />\n<span style="font-size:16px\;">You can access the underground parking garage from King Street which is a one-way street. We suggest parking as close to the King Street stairwell on P1 or P2 as possible as that is the best access point to get to the second floor Mezzanine. When you pull into the parking garage\, please press the button to get a ticket. You will also be given a free pass to exit the parking garage.</span></p>\n\n<div style="line-height: inherit\; color: rgb(0\, 0\, 0)\; font-family: arial\, helvetica\, sans-serif\; font-size: 14px\;">\n<p dir="ltr" style="line-height:1.38\;margin-top:0pt\;margin-bottom:0pt\;"><br />\n<span id="docs-internal-guid-e00e0743-7fff-bd1b-0170-daafc8626541"><span style="font-size: 12pt\; font-family: Arial\, sans-serif\; color: rgb(36\, 31\, 33)\; font-weight: 700\; font-variant-numeric: normal\; font-variant-east-asian: normal\; font-variant-alternates: normal\; font-variant-position: normal\; vertical-align: baseline\; white-space-collapse: preserve\;">Become an Exhibitor</span></span></p>\n<span id="docs-internal-guid-e00e0743-7fff-bd1b-0170-daafc8626541"><span style="font-size: 12pt\; font-family: Arial\, sans-serif\; font-variant-numeric: normal\; font-variant-east-asian: normal\; font-variant-alternates: normal\; font-variant-position: normal\; vertical-align: baseline\; white-space-collapse: preserve\;">Chamber members have an opportunity to be exhibitors at Business After 5.</span><span style="font-size: 12pt\; font-family: Arial\, sans-serif\; color: rgb(36\, 31\, 33)\; font-variant-numeric: normal\; font-variant-east-asian: normal\; font-variant-alternates: normal\; font-variant-position: normal\; vertical-align: baseline\; white-space-collapse: preserve\;"> Interested in participating? Don&#39\;t wait! Reach out to </span><span style="font-size: 12pt\; font-family: Arial\, sans-serif\; color: rgb(0\, 0\, 238)\; font-variant-numeric: normal\; font-variant-east-asian: normal\; font-variant-alternates: normal\; font-variant-position: normal\; vertical-align: baseline\; white-space-collapse: preserve\;">Elise Nagel</span><span style="font-size: 12pt\; font-family: Arial\, sans-serif\; color: rgb(36\, 31\, 33)\; font-variant-numeric: normal\; font-variant-east-asian: normal\; font-variant-alternates: normal\; font-variant-position: normal\; vertical-align: baseline\; white-space-collapse: preserve\;"> and book your table today. </span></span><br />\n<br />\n<strong fira="" font-size:="" style="color: rgb(34\, 34\, 34)\; font-family: ">Photography and Video Disclaimer:&nbsp\;</strong><span background-color:="" fira="" font-size:="" style="color: rgb(34\, 34\, 34)\; font-family: ">The London Chamber of Commerce reserves the right to photograph\, record and live stream this event. &nbsp\;These photos and videos may be used in publications\, posters and/or graphics. By registering for this event\, you understand and acknowledge that your photograph and videos with you in them may be taken and used\, per the discretion of the London Chamber of Commerce.</span></div>\n
LOCATION:Covent Garden Market 130 King Street London\, ON N6A 1C5
UID:e.2487.1529
SEQUENCE:3
DTSTAMP:20260421T082728Z
URL:https://business.londonchamber.com/events/details/y2024-business-after-five-june-1529
END:VEVENT

END:VCALENDAR
