BEGIN:VCALENDAR
VERSION:2.0
PRODID:-//ChamberMaster//Event Calendar 2.0//EN
METHOD:PUBLISH
X-PUBLISHED-TTL:P3D
REFRESH-INTERVAL:P3D
CALSCALE:GREGORIAN
BEGIN:VEVENT
DTSTART:20240208T130000Z
DTEND:20240208T144500Z
X-MICROSOFT-CDO-ALLDAYEVENT:FALSE
SUMMARY:y2024 Black History Month - Celebrating Canadian Black Innovation
DESCRIPTION:In celebration of Black History Month\, the Canadian Black Chamber of Commerce (CBCC) and the London Chamber of Commerce (LCOC) are looking towards the future - Black Canadian innovation - and what we are doing to accomplish that outcome.\n\n\n\nJoin us on February 8th for our joint event\, "Black History Month: Celebrating Black Canadian Innovation. Our theme\, "Honouring Black legacy. Building futures\," will explore the history we celebrate\, our contributions to Black Canadians' innovation\, and the work we're doing to drive the Black Business Renaissance. This FREE event is presented thanks to our sponsor Lerners.\n\n\n\nMusical Opening: Alexandra Kane will kick off the event by singing "Lift Every Voice". \n\n\n\nSpeakers:\n\n \n\n\n	Nikki Clarke\, Canadian Black Chamber\n	Yerusalem Berhane\, Berhan Immigration & Settlement Services\n	Carl Cadogan\, London Black History Coordinating Committee\n	Cleveland Brownlee\, The Better Bin Company\n\n\n\n\nBios\n\nNikki Clarke\, is the founder\, producer\, and host of the multiple award-winning talk show\, The Nikki Clarke Show on Afroglobal TV Network and on www.nikkiclarkenetwork.com. Nikki is the Immediate Past President of the Ontario Black History Society. Nikki has over 25 years of experience as a community activist. Nikki is an honouree of the 100 Accomplished Black Canadian Women in 2022. In 2023\, Nikki was nominated for RBC's Women of Influence\, Broadcast Media by the Black Business\, Professionals and Entrepreneur Awards\, Entrepreneur and Business by the Waterfront Awards\, and Torchbearer's Award by the Voice of Africa. Nikki is the National Business Manager for the Canadian Black Chamber of Commerce.\n\n \n\nAlexandra Kane is a performing artist\, music director\, producer\, equity transformation coach\, and activist. Alex holds a B.MusA from Western University\, a graduate certificate in Corporate Communications and Public Relations from Fanshawe\, and a graduate certificate in Diversity and Inclusion from Cornell University. Mom to 4-year-old Kenneth 2-month-old Zahra\, and wife to Ryan\, Alex has transitioned from small business owner to professional musician\, with several fantastic projects on the go. As a community change maker\, she leads Black Lives Matter London and works as a founding member of Black London Network. \n\n\n\nIn a career spanning over two decades\, Yerusalem Berhane is a seasoned regulated Immigration Consultant with a profound connection to black culture and extensive experience assisting individuals in the African diaspora\, such as those from Nigeria\, Kenya\, Ghana\, Ethiopia\, Eritrea\, Somalia\, the Caribbean\, and many others. She is the guiding force behind Berhan Immigration and Settlement Services with offices in London and Woodstock\, Ontario. Yerusalem Berhane is also a co-founder of a not-for-profit organization "Black Africanness Regulated Canadian Immigration Consultants (BA-RCIC)". This Black History Month we highlight Yerusalem's client-centric approach and a proven track record of professionalism\, integrity\, and results. She ensures a smooth and culturally sensitive journey for both individuals and businesses\, embodying the spirit of inclusivity and empowerment.\n\nCarl Cadogan has served on numerous boards\, committees\, and task forces\, including the CBA\, the Premier's Council on the Voluntary Sector\, and the Provincial Work Group on Gaming. Carl has worked in the Charitable sector for almost thirty years and is currently the Senior Regional Manager for the Kidney Foundation of Canada. He is also the Chair of the London Black History Coordinating Committee and is part of other national and local organizations. Carl is working on his collection of short stories he hopes to be published in 2024 or 2025.\n\n\n\nCleveland Brownlee is the general manager of The Better Bin Company\, a sister company of Try Recycling\, and the designated hitter with the London Majors.\n\n\n\nOriginally from Atlanta\, Georgia\, he came to London in 2010 to play for the Majors. He took The Better Bin Company from a London-based startup to a regional enterprise servicing a coverage area spanning from Sarnia to Guelph. Actively involved with a lengthy list of community organizations\, he puts in countless volunteering hours in his adopted hometown\, lending his energy to help motivate and inspire people to work together. In 2o19\, he was the recipient of the President's Award from the London Home Builders' Association.
X-ALT-DESC;FMTTYPE=text/html:<p><span style="font-size:16px\;"><span style="font-family:arial\;">In celebration of Black History Month\, the Canadian Black Chamber of Commerce (CBCC) and the London Chamber of Commerce (LCOC) are looking towards the future - Black Canadian innovation - and what we are doing to accomplish that outcome.<br />\n<br />\nJoin us on February 8th for our joint event\, &quot\;Black History Month: Celebrating Black Canadian Innovation.&nbsp\;Our theme\, &quot\;Honouring Black legacy. Building futures\,&quot\; will explore the history we celebrate\, our contributions to Black Canadians&#39\; innovation\, and the work we&#39\;re doing to drive the Black Business Renaissance. This FREE event is presented thanks to our sponsor <a href="https://www.lerners.ca/">Lerners</a>.</span></span><br />\n<br />\n<span style="font-size:16px\;"><span style="white-space-collapse: preserve\;"><strong>Musical Opening:</strong> Alexandra Kane will kick off the event by singing &quot\;Lift Every Voice&quot\;. </span><br />\n<br />\n<strong><span style="white-space-collapse: preserve\;">Speakers:</span></strong></span><br />\n&nbsp\;</p>\n\n<ul>\n	<li><span style="font-size:16px\;"><span style="white-space-collapse: preserve\;">Nikki Clarke\, </span><span class="xv78j7m" spellcheck="false" style="white-space-collapse: preserve\;">Canadian Black Chamber</span></span></li>\n	<li><span style="font-size:16px\;"><span class="xv78j7m" spellcheck="false" style="white-space-collapse: preserve\;"><span style="white-space-collapse: preserve\;">Yerusalem Berhane\, </span><span class="xv78j7m" spellcheck="false" style="white-space-collapse: preserve\;">Berhan Immigration &amp\; Settlement Services</span></span></span></li>\n	<li><span style="font-size:16px\;"><span class="xv78j7m" spellcheck="false" style="white-space-collapse: preserve\;"><span class="xv78j7m" spellcheck="false" style="white-space-collapse: preserve\;">Carl Cadogan\, London Black History Coordinating Committee</span></span></span></li>\n	<li><span style="font-size:16px\;"><span class="xv78j7m" spellcheck="false" style="white-space-collapse: preserve\;"><span class="xv78j7m" spellcheck="false" style="white-space-collapse: preserve\;">Cleveland Brownlee\, The Better Bin Company</span></span></span></li>\n</ul>\n\n<p><br />\n<span style="font-size:16px\;"><span style="font-family:arial\;"><span style="color:#000000\;"><strong>Bios</strong><br />\n<strong>Nikki Clarke</strong>\, is the founder\, producer\, and host of the multiple award-winning talk show\, The Nikki Clarke Show on Afroglobal TV Network and on&nbsp\;</span><a data-saferedirecturl="https://www.google.com/url?q=https://www.nikkiclarkenetwork.com/&amp\;source=gmail&amp\;ust=1704920046958000&amp\;usg=AOvVaw1dD8vVsrtK9efpi2qBjVj_" font-size:="" href="https://www.nikkiclarkenetwork.com/" id="m_-1206113604216699205OWA6cd490d0-c859-dffe-4b6e-3ebf7de3835b" open="" style="color: rgb(55\, 6\, 36)\; text-decoration-line: none\; word-break: break-word\; font-family: " target="_blank"><span style="color:#000000\;">www.nikkiclarkenetwork.com</span></a><span style="color:#000000\;">. Nikki is the Immediate Past President of the Ontario Black History Society. Nikki has over 25 years of experience as a community activist. Nikki is an honouree of the 100 Accomplished Black Canadian Women in 2022. In 2023\, Nikki was nominated for RBC&#39\;s Women of Influence\, Broadcast Media by the Black Business\, Professionals and Entrepreneur Awards\, Entrepreneur and Business by the Waterfront Awards\, and Torchbearer&#39\;s Award by the Voice of Africa. Nikki is the National Business Manager for the Canadian Black Chamber of Commerce.</span></span></span><br />\n&nbsp\;</p>\n\n<p><span style="color: rgb(0\, 0\, 0)\; font-family: Arial\, Helvetica\, sans-serif\; font-size: 16px\;"><strong>Alexandra Kane</strong> is a performing artist\, music director\, producer\, equity transformation coach\, and activist. Alex holds a B.MusA from Western University\, a graduate certificate in Corporate Communications and Public Relations from Fanshawe\, and a graduate certificate in Diversity and Inclusion from Cornell University. Mom to 4-year-old Kenneth 2-month-old Zahra\, and wife to Ryan\, Alex has transitioned from small business owner to professional musician\, with several fantastic projects on the go. As a community change maker\, she leads Black Lives Matter London and works as a founding member of Black London Network.&nbsp\;</span><br />\n<br />\n<span style="font-size:16px\;"><span style="color: rgb(0\, 0\, 0)\; font-family: Arial\, Helvetica\, sans-serif\;">In a career spanning over two decades\, <strong>Yerusalem Berhane</strong>&nbsp\;is a seasoned regulated Immigration Consultant with a profound connection to black culture and extensive experience assisting individuals in the African diaspora\, such as those from Nigeria\, Kenya\, Ghana\, Ethiopia\, Eritrea\, Somalia\, the Caribbean\, and many others. She is the guiding force behind Berhan Immigration and Settlement Services with offices in London and Woodstock\, Ontario. Yerusalem Berhane is also a co-founder of a not-for-profit organization &ldquo\;Black Africanness Regulated Canadian Immigration Consultants (BA-RCIC)&rdquo\;. This Black History Month we highlight Yerusalem&#39\;s client-centric approach and a proven track record of professionalism\, integrity\, and results. She ensures a smooth and culturally sensitive journey for both individuals and businesses\, embodying the spirit of inclusivity and empowerment.</span></span></p>\n\n<p><span style="font-size:16px\;"><strong>Carl Cadogan</strong> has served on numerous boards\, committees\, and task&nbsp\;forces\, including the CBA\, the Premier&rsquo\;s Council on the Voluntary Sector\,&nbsp\;and the Provincial Work Group on Gaming. Carl has worked in the&nbsp\;Charitable sector for almost thirty years and is currently the Senior&nbsp\;Regional Manager for the Kidney Foundation of Canada. He is also the Chair of the London Black History Coordinating Committee and is part of other national and local organizations.&nbsp\;Carl is working on his collection of short stories he hopes to be published in&nbsp\;2024 or 2025.<br />\n<br />\n<strong>Cleveland Brownlee</strong> is the general manager of The Better Bin Company\, a sister company of Try Recycling\, and the designated hitter with the London Majors.<br />\n<br />\nOriginally from Atlanta\, Georgia\, he came to London in 2010 to play for the Majors. He took The Better Bin Company from a London-based startup to a regional enterprise servicing a coverage area spanning from Sarnia to Guelph. Actively involved with a lengthy list of community organizations\, he puts in countless volunteering hours in his adopted hometown\, lending his energy to help motivate and inspire people to work together. In 2o19\, he was the recipient of the President&rsquo\;s Award from the London Home Builders&rsquo\; Association.&nbsp\;</span></p>\n\n<p><br />\n<br />\n&nbsp\;</p>\n
LOCATION:London Chamber of Commerce 244 Pall Mall St. Suite 101 London N6A 5P6
UID:e.2487.1536
SEQUENCE:3
DTSTAMP:20260421T234305Z
URL:https://business.londonchamber.com/events/details/y2024-black-history-month-celebrating-canadian-black-innovation-1536
END:VEVENT

END:VCALENDAR
