BEGIN:VCALENDAR
VERSION:2.0
PRODID:-//ChamberMaster//Event Calendar 2.0//EN
METHOD:PUBLISH
X-PUBLISHED-TTL:P3D
REFRESH-INTERVAL:P3D
CALSCALE:GREGORIAN
BEGIN:VEVENT
DTSTART:20250424T210000Z
DTEND:20250424T230000Z
X-MICROSOFT-CDO-ALLDAYEVENT:FALSE
SUMMARY:x2025 MEGA Business After Five - April
DESCRIPTION:Located in the heart of London\, Ontario\, the Best Western Plus Lamplighter Inn & Conference Centre is a premier destination for both leisure and business travelers. Our award-winning hotel combines comfort\, convenience\, and elegance to create unforgettable experiences for our guests.\n\n\n\nWith 172 well-appointed guest rooms and suites\, we provide a welcoming atmosphere with modern amenities designed to ensure a relaxing stay. Guests can enjoy our tropical atrium with an indoor pool\, waterslide\, and whirlpool\, making us an ideal location for family getaways.\n\n\n\nFor corporate events and social gatherings\, we offer versatile meeting and event spaces\, including the stunning Grand Crystal Ballroom and several smaller venues\, accommodating groups of various sizes\, from intimate gatherings to large-scale conferences. Our facilities are equipped with state-of-the-art technology\, including drop-down screens\, customizable staging\, complimentary Wi-Fi\, and professional audiovisual support. Our full-service approach extends to our catering services\, with diverse menu options to suit every taste and occasion.\n\n\n\nConveniently located near major attractions\, shopping\, and healthcare facilities like Victoria Hospital\, the Best Western Plus Lamplighter Inn is a trusted choice for travelers seeking a blend of luxury\, functionality\, and warm hospitality.\n\n\n\nPhotography and Video Disclaimer: The London Chamber of Commerce reserves the right to photograph\, record and live stream this event.  These photos and videos may be used in publications\, posters and/or graphics. By registering for this event\, you understand and acknowledge that your photograph and videos with you in them may be taken and used\, per the discretion of the London Chamber of Commerce.
X-ALT-DESC;FMTTYPE=text/html:<p style="box-sizing: border-box\; margin: 0px\; padding: 0px 0px 1em\; border: 0px\; outline: 0px\; font-size: 18px\; text-size-adjust: 100%\; vertical-align: baseline\; background-image: initial\; background-position: initial\; background-size: initial\; background-repeat: initial\; background-attachment: initial\; background-origin: initial\; background-clip: initial\; color: rgb(102\, 102\, 102)\; font-family: Nunito\, Helvetica\, Arial\, Lucida\, sans-serif\;"><span style="color:#000000\;"><strong>Located in the heart of London\, Ontario\, the Best Western Plus Lamplighter Inn &amp\; Conference Centre</strong> is a premier destination for both leisure and business travelers. Our award-winning hotel combines comfort\, convenience\, and elegance to create unforgettable experiences for our guests.<br />\n<br />\nWith 172 well-appointed guest rooms and suites\, we provide a welcoming atmosphere with modern amenities designed to ensure a relaxing stay. Guests can enjoy our tropical atrium with an indoor pool\, waterslide\, and whirlpool\, making us an ideal location for family getaways.<br />\n<br />\nFor corporate events and social gatherings\, we offer versatile meeting and event spaces\, including the stunning Grand Crystal Ballroom and several smaller venues\, accommodating groups of various sizes\, from intimate gatherings to large-scale conferences. Our facilities are equipped with state-of-the-art technology\, including drop-down screens\, customizable staging\, complimentary Wi-Fi\, and professional audiovisual support. Our full-service approach extends to our catering services\, with diverse menu options to suit every taste and occasion.<br />\n<br />\nConveniently located near major attractions\, shopping\, and healthcare facilities like Victoria Hospital\, the Best Western Plus Lamplighter Inn is a trusted choice for travelers seeking a blend of luxury\, functionality\, and warm hospitality.</span><br />\n<br />\n<span style="font-size:14px\;"><strong>P</strong><span style="color:#000000\;"><strong>hotography and Video Disclaimer:</strong> The London Chamber of Commerce reserves the right to photograph\, record and live stream this event.&nbsp\; These photos and videos may be used in publications\, posters and/or graphics. By registering for this event\, you understand and acknowledge that your photograph and videos with you in them may be taken and used\, per the discretion of the London Chamber of Commerce<span background-color:="" fira="" font-size:="">.</span></span></span></p>\n
LOCATION:Best Western Plus\, Lamplighter and Conference Centre 591 Wellington Road South London\, ON
UID:e.2487.1582
SEQUENCE:3
DTSTAMP:20260421T082750Z
URL:https://business.londonchamber.com/events/details/x2025-mega-business-after-five-april-1582
END:VEVENT

END:VCALENDAR
