BEGIN:VCALENDAR
VERSION:2.0
PRODID:-//ChamberMaster//Event Calendar 2.0//EN
METHOD:PUBLISH
X-PUBLISHED-TTL:P3D
REFRESH-INTERVAL:P3D
CALSCALE:GREGORIAN
BEGIN:VEVENT
DTSTART:20250415T121500Z
DTEND:20250415T140000Z
X-MICROSOFT-CDO-ALLDAYEVENT:FALSE
SUMMARY:x2025 Economic Insights: Preparing for What’s Next
DESCRIPTION:Join us for an exclusive morning briefing with Pierre Cl roux\, Chief Economist of the Business Development Bank of Canada (BDC)\, as he unpacks the latest economic trends shaping businesses in 2025. From tariffs and trade policies to global uncertainties and market shifts\, gain expert insights into how these factors will impact Canadian businesses. Don't miss this opportunity to stay ahead of the curve and make informed decisions in an evolving economic landscape. Register today!\n\n\n\nPhotography and Video Disclaimer: The London Chamber of Commerce reserves the right to photograph\, record\, and live stream this event.  These photos and videos may be used in publications\, posters and/or graphics. By registering for this event\, you understand and acknowledge that your photograph and videos with you in them may be taken and used\, per the discretion of the London Chamber of Commerce.
X-ALT-DESC;FMTTYPE=text/html:<div><span style="font-size:16px\;">Join us for an exclusive morning briefing with Pierre Cl&eacute\;roux\, Chief Economist of the Business Development Bank of Canada (BDC)\, as he unpacks the latest economic trends shaping businesses in 2025. From tariffs and trade policies to global uncertainties and market shifts\, gain expert insights into how these factors will impact Canadian businesses. Don&rsquo\;t miss this opportunity to stay ahead of the curve and make informed decisions in an evolving economic landscape. Register today!</span><br />\n<br />\n<strong>Photography and Video Disclaimer:</strong> The London Chamber of Commerce reserves the right to photograph\, record\, and live stream this event.&nbsp\; These photos and videos may be used in publications\, posters and/or graphics. By registering for this event\, you understand and acknowledge that your photograph and videos with you in them may be taken and used\, per the discretion of the London Chamber of Commerce.</div>\n\n<div>&nbsp\;</div>\n
LOCATION:London Chamber of Commerce 101-244 Pall Mall Street\, London\, ON
UID:e.2487.1606
SEQUENCE:3
DTSTAMP:20260421T094455Z
URL:https://business.londonchamber.com/events/details/x2025-economic-insights-preparing-for-what-s-next-1606
END:VEVENT

END:VCALENDAR
