BEGIN:VCALENDAR
VERSION:2.0
PRODID:-//ChamberMaster//Event Calendar 2.0//EN
METHOD:PUBLISH
X-PUBLISHED-TTL:P3D
REFRESH-INTERVAL:P3D
CALSCALE:GREGORIAN
BEGIN:VEVENT
DTSTART:20230420T210000Z
DTEND:20230420T230000Z
X-MICROSOFT-CDO-ALLDAYEVENT:FALSE
SUMMARY:z2023 MEGA Business After Five - April
DESCRIPTION:Mark your calendar for our upcoming MEGA Business After 5 on April 20 at Microcad Computer Corporation.\n\n\n\nWe are calling on exhibitors to secure their booths now! \n\n\n\nMicrocad Computer Corporation is a nationwide distributor of computer products. Established in 1991\, they have the experience and means to provide you with the latest products and technologies to cater to all of your home and business applications.
X-ALT-DESC;FMTTYPE=text/html:<p style="line-height: 19.6px\; margin: 0px\; color: rgb(0\, 0\, 0)\; font-family: arial\, helvetica\, sans-serif\; font-size: 14px\;"><span style="font-size:16px\;"><span style="font-family:arial\;">Mark your calendar for our upcoming MEGA Business After 5 on April 20 at Microcad Computer Corporation.<br />\n<br />\nWe are calling on exhibitors to secure their booths now!&nbsp\;<br />\n<br />\nMicrocad Computer Corporation is a nationwide distributor of computer products. Established in 1991\, they have the experience and means to provide you with the latest products and technologies to cater to all of your home and business applications.&nbsp\;</span></span></p>\n<br />\n<br />\n&nbsp\;
LOCATION:Microcad Computer Corp. 4015 Dowell Dr\, London\, ON\, N6L 1R1
UID:e.2487.1487
SEQUENCE:3
DTSTAMP:20260421T082729Z
URL:https://business.londonchamber.com/events/details/z2023-mega-business-after-five-april-1487
END:VEVENT

END:VCALENDAR
