BEGIN:VCALENDAR
VERSION:2.0
PRODID:-//ChamberMaster//Event Calendar 2.0//EN
METHOD:PUBLISH
X-PUBLISHED-TTL:P3D
REFRESH-INTERVAL:P3D
CALSCALE:GREGORIAN
BEGIN:VEVENT
DTSTART:20260122T140000Z
DTEND:20260122T153000Z
X-MICROSOFT-CDO-ALLDAYEVENT:FALSE
SUMMARY:v2026 Ask the Experts | Cyber Security Made Clear: What Your Business Needs to Do Now to be Cyber Safe with Techdoz
DESCRIPTION:
X-ALT-DESC;FMTTYPE=text/html:
LOCATION:London Chamber of Commerce 101-244 Pall Mall Street London\, ON N6A 5P6
UID:e.2487.1636
SEQUENCE:3
DTSTAMP:20260425T024627Z
URL:https://business.londonchamber.com/events/details/v2026-ask-the-experts-cyber-security-made-clear-what-your-business-needs-to-do-now-to-be-cyber-safe-with-techdoz-1636
END:VEVENT

END:VCALENDAR
